Workbook
Name _AMO_UniqueIdentifier: "'14c51401-3bb6-4eea-a14d-ab0fea1b2e9a'"
Name F1801119: '[1]Provisão 04-2013'!#REF!
Name F1801119: '[1]Provisão 04-2013'!#REF!
Name TABELA018: [2]RWAOPAD!#REF!
Name TABELA018: [2]RWAOPAD!#REF!

Sheet Índice
B6: 1. Indicadores prudenciais e gerenciamento de riscos
B7: KM1 - Informações quantitativas sobre os requerimentos prudenciais
B8: OV1 - Visão geral dos ativos ponderados pelo risco (RWA)
B10: 2. Risco de Crédito
B11: CR1 - Qualidade creditícia das exposições
B12: CR2 - Mudanças no estoque de operações classificadas como ativos problemáticos
B13: CRB - Informações adicionais sobre a qualidade creditícia das exposições
B15: 2. Risco de Crédito
B16: CR1 - Qualidade creditícia das exposições
B17: CR2 - Mudanças no estoque de operações em curso anormal
B19: 3. Risco de Mercado
B20: MR1 - Abordagem padronizada - fatores de risco associados ao risco de mercado
... B33: Informações do 2º trimestre de 2026 - 30/06/2026

Sheet KM1
B6: Tabela KM1: Informações quantitativas sobre os requerimentos prudenciais
B7: Frequência: Trimestral
B8: Data de Atualização: 30/06/2026
H9: R$ mil
D10: a | E10: b | F10: c | G10: d | H10: e
D11: 46203 | E11: 46082 | F11: 45992 | G11: 45901 | H11: 45809
C12: Capital regulamentar
B13: 1 | C13: Capital Principal | D13: 1749289.4 | E13: 1805818.4 | F13: 1792344.5 | G13: 1738282.5 | H13: 1712772
B14: 1a | C14: Capital Principal corresponde à linha 1 deduzindo, conforme aplicável, o valor estabelecido pelo: - art. 4º, caput, inciso I, alínea “i”, e §§ 8º e 9º, da Resolução CMN nº 4.955, de 21 de outubro de 2021; ou - art. 3º, caput, inciso I, alínea “i”, §§ 8º e 9º, da Resolução BCB nº 199, de 11 de março de 2022. | D14: 1749289.4 | E14: 1805818.4 | F14: 1792344.5 | G14: 1738282.5 | H14: 1712772
B15: 2 | C15: Nível I | D15: 1749289.4 | E15: 1805818.4 | F15: 1792344.5 | G15: 1738282.5 | H15: 1712772
B16: 2a | C16: Nível I considerando a apuração do Capital Principal conforme linha 1a | D16: 1749289.4 | E16: 1805818.4 | F16: 1792344.5 | G16: 1738282.5 | H16: 1712772
B17: 3 | C17: Patrimônio de Referência (PR) | D17: 1749289.4 | E17: 1805818.4 | F17: 1792344.5 | G17: 1738282.5 | H17: 1712772
B18: 3a | C18: Patrimônio de Referência (PR) considerando a apuração do Capital Principal conforme linha 1a | D18: 1749289.4 | E18: 1805818.4 | F18: 1792344.5 | G18: 1738282.5 | H18: 1712772
B19: 3b | C19: Excesso dos recursos aplicados no ativo permanente | D19: 0 | E19: 0 | F19: 0 | G19: 0 | H19: -
B20: 3b1 | C20: Excesso dos recursos aplicados no ativo permanente considerando o PR conforme linha 3a | D20: 0 | E20: 0 | F20: 0 | G20: 0 | H20: -
B21: 3c | C21: Destaque do PR | D21: 0 | E21: 0 | F21: 0 | G21: 0 | H21: -
C22: Ativos ponderados pelo risco (RWA)
B23: 4 | C23: RWA total | D23: 9333910.2 | E23: 9625733.4 | F23: 10134128 | G23: 10245550 | H23: 10173038
B24: 4b | C24: RWA corresponde à linha 4 deduzindo, conforme aplicável, o valor referente ao inciso XII do caput do art. 4º ponderado pelo Fator de Ponderação de Risco (FPR) estabelecido no art. 82-A, ambos os comandos da Resolução 229, de 12 de maio de 2022. | D24: 9333910.2 | E24: 9625733.4 | F24: 10134128 | G24: 10245550 | H24: 10173038
C25: Capital regulamentar como proporção do RWA
B26: 5 | C26: Índice de Capital Principal (ICP) | D26: 0.18741228 | E26: 0.1876032 | F26: 0.17686224 | G26: 0.1696622 | H26: 0.1684
B27: 5a | C27: Índice de Capital Principal (ICP) considerando: - Numerador: corresponde à linha 1a - Denominador: corresponde à linha 4b | D27: 0.18741228 | E27: 0.1876032 | F27: 0.17686224 | G27: 0.1696622 | H27: 0.1684
B28: 6 | C28: Índice de Nível 1 (%) | D28: 0.18741228 | E28: 0.1876032 | F28: 0.17686224 | G28: 0.1696622 | H28: 0.1684
B29: 6a | C29: Índice de Nível 1, considerando: - Numerador: corresponde à linha 2a - Denominador: corresponde à linha 4b | D29: 0.18741228 | E29: 0.1876032 | F29: 0.17686224 | G29: 0.1696622 | H29: 0.1684
B30: 7 | C30: Índice de Basileia | D30: 0.18741228 | E30: 0.1876032 | F30: 0.17686224 | G30: 0.1696622 | H30: 0.1684
B31: 7a | C31: Índice de Basileia, considerando: - Numerador: corresponde à linha 3a - Denominador: corresponde à linha 4b | D31: 0.18741228 | E31: 0.1876032 | F31: 0.17686224 | G31: 0.1696622 | H31: 0.1684
C32: Adicional de Capital Principal (ACP) como proporção do RWA
B33: 8 | C33: Adicional de Conservação de Capital Principal - ACPConservação (%) | D33: 0.025 | E33: 0.025 | F33: 0.025 | G33: 0.025 | H33: 0.025
B34: 9 | C34: Adicional Contracíclico de Capital Principal - ACPContracíclico (%) | D34: 0 | E34: 0 | F34: 0 | G34: 0 | H34: 0
B35: 10 | C35: Adicional de Importância Sistêmica de Capital Principal - ACPSistêmico (%) | D35: 0 | E35: 0 | F35: 0 | G35: 0 | H35: 0
B36: 11 | C36: ACP total (%) | D36: 0.025 | E36: 0.025 | F36: 0.025 | G36: 0.025 | H36: 0.025
B37: 12 | C37: Margem excedente de Capital Principal (%) | D37: 0.11741228 | E37: 0.1176032 | F37: 0.10686224 | G37: 0.0996622 | H37: 0.0984
B38: 12a | C38: Margem excedente de Capital Principal (%) considerando o Capital Principal conforme linha 1a | D38: 0.11741228 | E38: 0.1176032 | F38: 0.10686224 | G38: 0.0996622 | H38: 0.0984
C39: Razão de Alavancagem (RA)
B40: 13 | C40: Exposição total | D40: 13883056 | E40: 14046322 | F40: 14679672 | G40: 14227391 | H40: 13756017
B41: 13a | C41: Exposição total corresponde à linha 13 deduzindo, conforme aplicável, o valor referente ao inciso XII do caput do art. 4º da Resolução 229, de 12 de maio de 2022. | D41: 13883056 | E41: 14046322 | F41: 14679672 | G41: 14227391 | H41: 13756017
B42: 14 | C42: RA (%) | D42: 0.12600175 | E42: 0.12856166 | F42: 0.12209704 | G42: 0.12217859 | H42: 0.1245
B43: 14a | C43: RA considerando: i. Numerador: corresponde à linha 2a ii. Denominador: corresponde à linha 13a | D43: 0.12600175 | E43: 0.12856166 | F43: 0.12209704 | G43: 0.12217859 | H43: 0.1245
C44: Indicador de Liquidez de Curto Prazo (LCR)
B45: 15 | C45: Total de Ativos de Alta Liquidez (HQLA) | D45: NA | E45: NA | F45: NA | G45: NA | H45: NA
...

Sheet OV1
B6: Tabela OV1: Visão geral dos ativos ponderados pelo risco (RWA)
B7: Frequência: Trimestral
B8: ='KM1'!B8 -> Data de Atualização: 30/06/2026
F9: R$ mil
D10: a | E10: b | F10: c
D11: RWA | F11: Requerimento mínimo de PR
D12: 46174 | E12: 46082 | F12: 46174
B13: 1 | C13: Risco de crédito em sentido estrito | D13: 8505666.3 | E13: 8797489.5 | F13: 680453.31
B14: 2 | C14: Do qual: apurado por meio da abordagem padronizada | D14: 8505666.3 | E14: 8797489.5 | F14: 680453.31
B15: 3 | C15: Do qual: apurado por meio da abordagem IRB básica | D15: 0 | E15: 0 | F15: 0
B16: 5 | C16: Do qual: apurado por meio da abordagem IRB avançada | D16: 0 | E16: 0 | F16: 0
B17: 6 | C17: Risco de crédito de contraparte (CCR) | D17: 0 | E17: 0 | F17: 0
B18: 7 | C18: Do qual: requerimento calculado mediante abordagem padronizada para risco de crédito de contraparte (SA-CCR) | D18: NA | E18: NA | F18: NA
B19: 7a | C19: Do qual: requerimento calculado mediante uso da abordagem CEM | D19: 0 | E19: 0 | F19: 0
B20: 9 | C20: Do qual: mediante demais abordagens | D20: 0 | E20: 0 | F20: 0
B21: 12 | C21: Cotas de fundos não consolidados - ativos subjacentes identificados | D21: 0 | E21: 0 | F21: 0
B22: 13 | C22: Cotas de fundos não consolidados - ativos subjacentes inferidos conforme regulamento do fundo | D22: 0 | E22: 0 | F22: 0
B23: 14 | C23: Cotas de fundos não consolidados - ativos subjacentes não identificados | D23: 0 | E23: 0 | F23: 0
B24: 16 | C24: Exposições de securitização - requerimento calculado mediante abordagem padronizada | D24: 0 | E24: 0 | F24: 0
B25: 20 | C25: Risco de mercado | D25: 0 | E25: 0 | F25: 0
B26: 21 | C26: Do qual: requerimento calculado mediante abordagem padronizada (RWAMPAD) | D26: 0 | E26: 0 | F26: 0
B27: 22 | C27: Do qual: requerimento calculado mediante modelo interno (RWAMINT) | D27: 0 | E27: 0 | F27: 0
B28: 24 | C28: Risco operacional | D28: 828243.91 | E28: 828243.91 | F28: 66259.513
B29: I | C29: Risco de Pagamentos (RWASP) | D29: NA | E29: NA | F29: NA
B30: 25 | C30: Valores referentes às exposições não deduzidas no cálculo do PR | D30: 0 | E30: 0 | F30: 0
B31: 29 | C31: Total | D31: 9333910.2 | E31: 9625733.4 | F31: 746712.82

Sheet CR1
B5: Tabela CR1: Qualidade creditícia das exposições
B6: Frequência: Semestral
B7: ='KM1'!B8 -> Data de Atualização: 30/06/2026
I8: R$ mil
D9: 44012
D10: a | E10: b | F10: c | G10: d | H10: f | I10: g
D11: Valor Bruto | F11: Provisões | G11: Provisões Dos quais: RWACPAD | H11: Provisões Dos quais: RWACIRB | I11: Valor Líquido
D12: Exposições caracterizadas como ativos problematicos | E12: Exposições não caracterizadas como ativos problematicos
B13: 1 | C13: Concessão de crédito | D13: 986041.17 | E13: 6853624.7 | F13: 702616.5 | G13: =F13 -> 702616.5 | H13: 0 | I13: =D13+E13-F13 -> 7137049.3
B14: 2 | C14: Títulos de dívida | D14: 0 | E14: =E15+E16 -> 5662317.4 | F14: 0 | G14: 0 | H14: 0 | I14: =D14+E14-F14 -> 5662317.4
B15: 2a | C15: dos quais: títulos soberanos nacionais | D15: 0 | E15: 0 | F15: 0 | G15: 0 | H15: 0 | I15: =D15+E15-F15 -> 0
B16: 2b | C16: dos quais: outros títulos | D16: 0 | E16: 5662317.4 | F16: 0 | G16: 0 | H16: 0 | I16: =D16+E16-F16 -> 5662317.4
B17: 3 | C17: Operações não contabilizadas no balanço patrimonial | D17: 12705.423 | E17: 955026.29 | F17: 18687.663 | G17: =F17 -> 18687.663 | H17: 0 | I17: =D17+E17-F17 -> 949044.05
B18: 4 | C18: Total | D18: =SUM(D13:D17) -> 998746.59 | E18: =SUM(E13:E17)-E14 -> 13470968 | F18: =SUM(F13:F17) -> 721304.16 | G18: =SUM(G13:G17)-G14 -> 721304.16 | H18: =SUM(H13:H17)-H14 -> 0 | I18: =SUM(I13:I17)-I14 -> 13748411

Sheet CR2
B5: Tabela CR2: Mudanças no estoque de operações classificadas como ativos problemáticos
B6: Frequência: Semestral
B7: ='KM1'!B8 -> Data de Atualização: 30/06/2026
E8: R$ mil
E9: jun-26 Total
B10: 1 | C10: Valor das exposições classificadas como ativos problemáticos ao final do período anterior | E10: 916890.87
B11: 2 | C11: Valor das exposições que passaram a ser classificadas como ativos problemáticos no período corrente | E11: 214630.25
B12: 3 | C12: Valor das exposições que deixaram de ser caracterizadas como ativos problemáticos no período corrente | E12: -3771.9642
B13: 4 | C13: Valor da baixa contábil por prejuízo | E13: -137612.94
B14: 5 | C14: Outros ajustes | E14: 8610.3773
B15: 6 | C15: Valor das operações classificadas como ativos problemáticos no final do período corrente | E15: =SUM(E10:E14) -> 998746.59

Sheet CRB
B3: Tabela CRB: Informações adicionais sobre a qualidade creditícia das exposições reportadas
B4: Frequência: Anual
B5: ='KM1'!B8 -> Data de Atualização: 30/06/2026
B7: Ano: | C7: 2025
B9: a | C9: Total das exposições | J9: R$ mil
D10: Total das exposições por regiões geográficas
D11: Centro Oeste | E11: Nordeste | F11: Norte | G11: Sudeste | H11: Sul | I11: Território Nacional 1 | J11: Total
C12: Concessão de crédito | D12: 0 | E12: 0 | F12: 0 | G12: 8886790.5 | H12: 0 | J12: =+SUM(D12:I12) -> 8886790.5
C13: Títulos de dívida | D13: 0 | E13: 0 | F13: 0 | G13: 0 | H13: 0 | I13: ='CR1'!E14 -> 5662317.4 | J13: =+SUM(D13:I13) -> 5662317.4
C14: Operações não contabilizadas no balanço patrimonial | D14: 0 | E14: 0 | F14: 0 | G14: 938528 | H14: 0 | J14: =+'CR1'!E17+'CR1'!D17 -> 967731.72
C15: Total das exposições | D15: =SUM(D12:D14) -> 0 | E15: =SUM(E12:E14) -> 0 | F15: =SUM(F12:F14) -> 0 | G15: =SUM(G12:G14) -> 9825318.5 | H15: =SUM(H12:H14) -> 0 | I15: =SUM(I12:I14) -> 5662317.4 | J15: =SUM(J12:J14) -> 15516840
C16: 1 Coresponde aos títulos públicos brasileiros
H17: R$ mil
D18: Total das exposições por prazo remanescente de vencimento
D19: Até 6 meses | E19: Acima de 6 meses até 1 ano | F19: Acima de 1 ano até 5 anos | G19: Acima de 5 anos | H19: Total
C20: Concessão de crédito | D20: 1129702.4 | E20: 589917.57 | F20: 5686566.1 | G20: 1376480 | H20: =SUM(D20:G20) -> 8782666.1
C21: Títulos de dívida | D21: 5134998.9 | E21: 68746.022 | F21: 221203.97 | G21: 0 | H21: =SUM(D21:G21) -> 5424948.9
C22: Operações não contabilizadas no balanço patrimonial | D22: 596732.16 | E22: 158677.81 | F22: 118874.88 | G22: 61857.614 | H22: =+'CR1'!E17+'CR1'!D17 -> 967731.72
C23: Total das exposições | D23: =SUM(D20:D22) -> 6861433.4 | E23: =SUM(E20:E22) -> 817341.4 | F23: =SUM(F20:F22) -> 6026644.9 | G23: =SUM(G20:G22) -> 1438337.6 | H23: =SUM(H20:H22) -> 15175347
E25: R$ mil
C26: Total das exposições por setor econômico
D27: Valor Líquido | E27: Valor Bruto
C28: Concessão de crédito | D28: =SUM(D29:D49) -> 8250142.5 | E28: =SUM(E29:E49) -> 8886790.5
C29: AGRICULTURA, PECUÁRIA, PRODUÇÃO FLORESTAL, PESCA E AQÜICULTURA | D29: 4255654.2 | E29: 4539057.4
C30: COMÉRCIO; REPARAÇÃO DE VEÍCULOS AUTOMOTORES E MOTOCICLETAS | D30: 900940.44 | E30: 1022319.4
C31: INDÚSTRIAS DE TRANSFORMAÇÃO | D31: 1577922 | E31: 1614878.7
C32: Pessoa Física | D32: 202607.25 | E32: 257460.66
C33: ATIVIDADES FINANCEIRAS, DE SEGUROS E SERVIÇOS RELACIONADOS | D33: 173492.1 | E33: 176783.25
C34: TRANSPORTE, ARMAZENAGEM E CORREIO | D34: 211919.6 | E34: 238048.65
C35: CONSTRUÇÃO | D35: 568307.58 | E35: 616487.89
C36: ATIVIDADES ADMINISTRATIVAS E SERVIÇOS COMPLEMENTARES | D36: 65685.158 | E36: 83043.325
C37: ATIVIDADES PROFISSIONAIS, CIENTÍFICAS E TÉCNICAS | D37: 46637.731 | E37: 59160.855
C38: SAÚDE HUMANA E SERVIÇOS SOCIAIS | D38: 14470.778 | E38: 16322.74
C39: ALOJAMENTO E ALIMENTAÇÃO | D39: 23700.259 | E39: 30567.056
C40: ATIVIDADES IMOBILIÁRIAS | D40: 106815.24 | E40: 113805.49
... C49: ADMINISTRAÇÃO PÚBLICA, DEFESA E SEGURIDADE SOCIAL | D49: 0.06859 | E49: 0.06897
C50: Títulos de dívida | D50: =J13 -> 5662317.4 | E50: =J13 -> 5662317.4
C51: Tesouro Nacional | D51: 0 | E51: 0
C52: Bancos e outras Instituições Financeiras | D52: 0 | E52: 0
C53: Operações não contabilizadas no Balanço Patrimonial | D53: ='CR1'!I17 -> 949044.05 | E53: ='CR1'!D17+'CR1'!E17 -> 967731.72
...

Sheet MR1
B6: Tabela MR1: Abordagem padronizada - fatores de risco associados ao risco de mercado
B7: Frequência: Trimestral
B8: ='KM1'!B8 -> Data de Atualização: 30/06/2026
E9: R$ mil
D10: RWAMPAD
D11: 46203 | E11: 46112
B12: 1 | C12: Taxas de juros | D12: 0 | E12: 0
B13: 1a | C13: Taxas de juros prefixada denominadas em Real (RWAJUR1) | D13: 0 | E13: 0
B14: 1b | C14: Taxas dos cupons de moeda estrangeira (RWAJUR2) | D14: 0 | E14: 0
B15: 1c | C15: Taxas dos cupons de índices de preço (RWAJUR3) | D15: 0 | E15: 0
B16: 1d | C16: Taxas dos cupons de taxas de juros (RWAJUR4) | D16: 0 | E16: 0
B17: 2 | C17: Preços de ações (RWAACS) | D17: 0 | E17: 0
B18: 3 | C18: Taxas de câmbio (RWACAM) | D18: 0 | E18: 0
B19: 4 | C19: Preços de mercadorias (RWACOM) | D19: 0 | E19: 0
B20: 5 | C20: RWADRC
B21: 6 | C21: RWACVA
B22: 9 | C22: Total | D22: =+SUM(D12:D19)-D12 -> 0 | E22: =+SUM(E12:E19)-E12 -> 0

Sheet Derivativos
B5: Informações quantitativas dos derivativos classificados nas carteiras de negociação e bancária
B6: Frequência: Trimestral
B7: ='KM1'!B8 -> Data de Atualização: 30/06/2026
G8: R$ mil
C9: Derivativos no Brasil - Com Contraparte Central
D10: 46203 | F10: 46112
C11: Fatores de Risco | D11: Comprada | E11: Vendida | F11: Comprada | G11: Vendida
C12: Ações e Índices | D12: - | E12: - | F12: - | G12: -
C13: Câmbio | D13: - | E13: - | F13: - | G13: -
C14: Taxa de juros | D14: - | E14: - | F14: - | G14: -
C15: Commodities | D15: - | E15: - | F15: - | G15: -

Sheet IRRBB1
B3: Tabela IRRBB1: Informações quantitativas sobre o IRRBB
B4: Frequência: Anual
B5: Data de Atualização: 31/12/2024
G8: R$ mil
D9: Choques Padronizados ¹
D10: ∆EVE | F10: ∆NII
C11: Cenários | D11: 46022 | E11: 45657 | F11: 46022 | G11: 45657
C12: Paralelo de Alta | D12: 58879.485 | E12: 47920.21 | F12: -84034.832 | G12: -72256.077
C13: Paralelo de Baixa | D13: -66451.215 | E13: -52620.519 | F13: 84034.803 | G13: 72256.077
C14: Aumento das taxas de juros de curto prazo | D14: NA | E14: NA
C15: Redução das taxas de juros de curto prazo | D15: NA | E15: NA
C16: Steepener | D16: NA | E16: NA
C17: Flattener | D17: NA | E17: NA
C18: Variação Máxima | D18: =+MAX(D12:D13) -> 58879.485 | E18: =+MAX(E12:E13) -> 47920.21 | F18: =+MAX(F12:F13) -> 84034.803 | G18: =+MAX(G12:G13) -> 72256.077
D19: =D11 -> 46022 | F19: =E11 -> 45657
C20: Capital de Nível I | D20: ='KM1'!D15 -> 1749289.4 | F20: ='KM1'!H15 -> 1712772
B21: As perdas potenciais estão representadas por valores positivos, enquanto que, os ganhos potenciais por valores negativos.
B22: ¹ Choques padronizados nas taxas de juros, conforme definição do "Anexo 1" da Circular BCB nº 3.876/2018.

Sheet OR1
B3: Tabela OR1: Histórico de perdas operacionais
B4: Frequência: Anual.
B5: ='KM1'!B8 -> Data de Atualização: 30/06/2026
N8: R$ mil
D9: a | E9: b | F9: c | G9: d | H9: e | I9: f | J9: g | K9: h | L9: i | M9: j | N9: k
D10: 2025 | E10: 2024 | F10: 2023 | G10: 2022 | H10: 2021 | I10: 2020 | J10: 2019 | K10: 2018 | L10: 2017 | M10: 2016 | N10: Média dos últimos 10 períodos anuais
C12: Com limiar de R$100.000,00 (cem mil reais)
B13: 1 | C13: Valor da perda líquida | D13: 0 | E13: 0 | F13: 0 | G13: 0 | H13: 0 | I13: 0 | J13: 0 | K13: 0 | L13: 0 | M13: 0 | N13: 0
B14: 2 | C14: Número de eventos de perda operacional | D14: 0 | E14: 0 | F14: 0 | G14: 0 | H14: 0 | I14: 0 | J14: 0 | K14: 0 | L14: 0 | M14: 0 | N14: 0
B15: 3 | C15: Valor total de perdas operacionais descartadas da base de perdas | D15: 0 | E15: 0 | F15: 0 | G15: 0 | H15: 0 | I15: 0 | J15: 0 | K15: 0 | L15: 0 | M15: 0 | N15: 0
B16: 4 | C16: Número de eventos de perda descartados | D16: 0 | E16: 0 | F16: 0 | G16: 0 | H16: 0 | I16: 0 | J16: 0 | K16: 0 | L16: 0 | M16: 0 | N16: 0
B17: 5 | C17: Valor da perda líquida considerando eventos descartados | D17: 0 | E17: 0 | F17: 0 | G17: 0 | H17: 0 | I17: 0 | J17: 0 | K17: 0 | L17: 0 | M17: 0 | N17: 0
C18: Com limiar de R$500.000,00 (quinhentos mil reais) | D18: 0 | E18: 0 | F18: 0 | G18: 0 | H18: 0 | I18: 0 | J18: 0 | K18: 0 | L18: 0 | M18: 0 | N18: 0
B19: 6 | C19: Valor da perda líquida | D19: 0 | E19: 0 | F19: 0 | G19: 0 | H19: 0 | I19: 0 | J19: 0 | K19: 0 | L19: 0 | M19: 0 | N19: 0
B20: 7 | C20: Número de eventos de perda operacional | D20: 0 | E20: 0 | F20: 0 | G20: 0 | H20: 0 | I20: 0 | J20: 0 | K20: 0 | L20: 0 | M20: 0 | N20: 0
B21: 8 | C21: Valor total de perdas operacionais descartadas da base de perdas | D21: 0 | E21: 0 | F21: 0 | G21: 0 | H21: 0 | I21: 0 | J21: 0 | K21: 0 | L21: 0 | M21: 0 | N21: 0
B22: 9 | C22: Número de eventos de perda descartados | D22: 0 | E22: 0 | F22: 0 | G22: 0 | H22: 0 | I22: 0 | J22: 0 | K22: 0 | L22: 0 | M22: 0 | N22: 0
B23: 10 | C23: Valor da perda líquida considerando eventos descartados | D23: 0 | E23: 0 | F23: 0 | G23: 0 | H23: 0 | I23: 0 | J23: 0 | K23: 0 | L23: 0 | M23: 0 | N23: 0
C24: Detalhes do cálculo do RWAOPAD | D24: 0 | E24: 0 | F24: 0 | G24: 0 | H24: 0 | I24: 0 | J24: 0 | K24: 0 | L24: 0 | M24: 0 | N24: 0
B25: 13 | C25: Limiar de perdas utilizado no cálculo do ILM: R$ 100.000,00 (cem mil reais) ou R$ 500.000,00 (quinhentos mil reais). | D25: 0 | E25: 0 | F25: 0 | G25: 0 | H25: 0 | I25: 0 | J25: 0 | K25: 0 | L25: 0 | M25: 0 | N25: 0

Sheet OR2
B3: Tabela OR2 - Composição do Indicador de Negócios (BI)
B4: Frequência: Anual
B5: ='KM1'!B8 -> Data de Atualização: 30/06/2026
F8: R$ mil
D9: a | E9: b | F9: c
C10: BI e componentes | D10: 2025 | E10: 2024 | F10: 2023
B11: 1 | C11: Componente de juros, arrendamento mercantil e participações (ILDC) | D11: 294416.64
B12: 1a | C12: Receita de juros e arrendamento mercantil (II) | D12: 1815820.7 | E12: 1597267 | F12: 1422457.7
B13: 1b | C13: Despesa de juros e arrendamento mercantil (IE) | D13: -1219436.9 | E13: -1036771 | F13: -992305.56
B14: 1c | C14: Ativos geradores de juros (IEA) | D14: 13156415 | E14: 11805756 | F14: 9851513.6
B15: 1d | C15: Receitas de participações (DI) | D15: 38554.612 | E15: 35733.296 | F15: 25654.084
B16: 2 | C16: Componente de serviços (SC) | D16: 200631.52
B17: 2a | C17: Receita de serviços (FI) | D17: 93775.646 | E17: 82518.698 | F17: 68494.609
B18: 2b | C18: Despesa de serviços (FE) | D18: -58898.083 | E18: -43409.014 | F18: -25374.352
B19: 2c | C19: Outras receitas operacionais (OOI) | D19: 130100.37 | E19: 71367.094 | F19: 54713.147
B20: 2d | C20: Outras despesas operacionais (OOE) | D20: -138494.86 | E20: -108445.73 | F20: -110165.02
B21: 3 | C21: Componente financeiro (FC) | D21: 2686.3454
B22: 3a | C22: Resultado líquido da carteira de negociação (NTB) | D22: 0 | E22: -5774.5297 | F22: -1070.9812
B23: 3b | C23: Resultado líquido da carteira bancária (NBB) | D23: 1097.8436 | E23: -10.506 | F23: -105.17573
B24: 4 | C24: Indicador de Negócios (BI) | D24: 497734.5
B25: 5 | C25: Indicador de Negócios Ponderado (BIC) | D25: 59728.14
D27: a | E27: b | F27: c
C28: Divulgação relativa ao BI | D28: 2025 | E28: 2024 | F28: 2023
B29: 6c | C29: Receitas referentes a serviços de pagamento excluídos do SC | D29: 0 | E29: 0 | F29: 0
B30: 6d | C30: Despesas referentes a serviços de pagamento excluídos do SC | D30: 0 | E30: 0 | F30: 0

Sheet OR3
B3: Tabela OR3: Requerimento de capital para o risco operacional
B4: Frequência: Anual
B5: ='KM1'!B8 -> Data de Atualização: 30/06/2026
E8: R$ mil
E9: a
B10: 1 | C10: Indicador de Negócios Ponderado (BIC) | E10: 59728.14
B11: 2 | C11: Multiplicador de Perdas Internas (ILM) | E11: 1
B12: 3 | C12: Requerimento de capital para o risco operacional | E12: 59728.14
B13: 4 | C13: RWAOPAD | E13: 746601.75

Sheet Derivativos DA
B3: Informações quantitativas dos derivativos classificados nas carteiras de negociação e bancária
B4: Frequência: Trimestral
B5: =Derivativos!B7 -> Data de Atualização: 30/06/2026
E8: R$ mil
B9: Derivativos
C11: Fatores de Risco | D11: =Derivativos!D10 -> 46203 | E11: =Derivativos!F10 -> 46112
B12: 1 | C12: Taxa de juros | D12: =SUM(D13:D20) -> 0 | E12: =SUM(E13:E20) -> 0
B13: 1a | C13: Posição Comprada – Liquidadas em contraparte central – No Brasil
B14: 1b | C14: Posição Comprada – Liquidadas em contraparte central – No exterior
B15: 1c | C15: Posição Comprada – Não liquidadas em contraparte central – No Brasil
B16: 1d | C16: Posição Comprada – Nãp liquidadas em contraparte central – No exterior
B17: 1e | C17: Posição Vendida – Liquidadas em contraparte central – No Brasil
B18: 1f | C18: Posição Vendida – Liquidadas em contraparte central – No exterior
B19: 1g | C19: Posição Vendida – Não liquidadas em contraparte central – No Brasil
B20: 1h | C20: Posição Vendida – Não liquidadas em contraparte central – No exterior
B21: 2 | C21: Câmbio | D21: =SUM(D22:D29) -> 0 | E21: =SUM(E22:E29) -> 0
B22: 2a | C22: Posição Comprada – Liquidadas em contraparte central – No Brasil
B23: 2b | C23: Posição Comprada – Liquidadas em contraparte central – No exterior
B24: 2c | C24: Posição Comprada – Não liquidadas em contraparte central – No Brasil
B25: 2d | C25: Posição Comprada – Nãp liquidadas em contraparte central – No exterior
B26: 2e | C26: Posição Vendida – Liquidadas em contraparte central – No Brasil
B27: 2f | C27: Posição Vendida – Liquidadas em contraparte central – No exterior
B28: 2g | C28: Posição Vendida – Não liquidadas em contraparte central – No Brasil
B29: 2h | C29: Posição Vendida – Não liquidadas em contraparte central – No exterior
B30: 3 | C30: Ações e Índices | D30: =SUM(D31:D38) -> 0 | E30: =SUM(E31:E38) -> 0
B31: 3a | C31: Posição Comprada – Liquidadas em contraparte central – No Brasil
B32: 3b | C32: Posição Comprada – Liquidadas em contraparte central – No exterior
B33: 3c | C33: Posição Comprada – Não liquidadas em contraparte central – No Brasil
B34: 3d | C34: Posição Comprada – Nãp liquidadas em contraparte central – No exterior
B35: 3e | C35: Posição Vendida – Liquidadas em contraparte central – No Brasil
B36: 3f | C36: Posição Vendida – Liquidadas em contraparte central – No exterior
B37: 3g | C37: Posição Vendida – Não liquidadas em contraparte central – No Brasil
B38: 3h | C38: Posição Vendida – Não liquidadas em contraparte central – No exterior
B39: 4 | C39: Commodities | D39: =SUM(D40:D47) -> 0 | E39: =SUM(E40:E47) -> 0
B40: 4a | C40: Posição Comprada – Liquidadas em contraparte central – No Brasil
B41: 4b | C41: Posição Comprada – Liquidadas em contraparte central – No exterior
B42: 4c | C42: Posição Comprada – Não liquidadas em contraparte central – No Brasil
B43: 4d | C43: Posição Comprada – Nãp liquidadas em contraparte central – No exterior
B44: 4e | C44: Posição Vendida – Liquidadas em contraparte central – No Brasil
B45: 4f | C45: Posição Vendida – Liquidadas em contraparte central – No exterior
...
